BEGIN:VCALENDAR
VERSION:2.0
PRODID:-//Departamento de História da PUC-Rio - ECPv6.7.0//NONSGML v1.0//EN
CALSCALE:GREGORIAN
METHOD:PUBLISH
X-WR-CALNAME:Departamento de História da PUC-Rio
X-ORIGINAL-URL:https://www.his.puc-rio.br/en
X-WR-CALDESC:Events for Departamento de História da PUC-Rio
REFRESH-INTERVAL;VALUE=DURATION:PT1H
X-Robots-Tag:noindex
X-PUBLISHED-TTL:PT1H
BEGIN:VTIMEZONE
TZID:America/Sao_Paulo
BEGIN:STANDARD
TZOFFSETFROM:-0300
TZOFFSETTO:-0300
TZNAME:-03
DTSTART:20230101T000000
END:STANDARD
END:VTIMEZONE
BEGIN:VEVENT
DTSTART;TZID=America/Sao_Paulo:20231004T130000
DTEND;TZID=America/Sao_Paulo:20231004T150000
DTSTAMP:20260425T200113
CREATED:20230822T131410Z
LAST-MODIFIED:20230822T131410Z
UID:4160-1696424400-1696431600@www.his.puc-rio.br
SUMMARY:[:pb]Seminários das  Linhas - Projetos[:]
DESCRIPTION:
URL:https://www.his.puc-rio.br/en/event/portugues-seminarios-das-linhas-projetos-2/
END:VEVENT
BEGIN:VEVENT
DTSTART;VALUE=DATE:20231012
DTEND;VALUE=DATE:20231014
DTSTAMP:20260425T200113
CREATED:20230822T131459Z
LAST-MODIFIED:20230822T131459Z
UID:4162-1697068800-1697241599@www.his.puc-rio.br
SUMMARY:[:pb]Feriado - Nossa Senhora de Aparecida[:]
DESCRIPTION:
URL:https://www.his.puc-rio.br/en/event/portugues-feriado-nossa-senhora-de-aparecida/
END:VEVENT
BEGIN:VEVENT
DTSTART;TZID=America/Sao_Paulo:20231018T130000
DTEND;TZID=America/Sao_Paulo:20231018T150000
DTSTAMP:20260425T200113
CREATED:20230822T131715Z
LAST-MODIFIED:20230822T131715Z
UID:4164-1697634000-1697641200@www.his.puc-rio.br
SUMMARY:[:pb]Seminário de Arte e Teoria[:]
DESCRIPTION:
URL:https://www.his.puc-rio.br/en/event/portugues-seminario-de-arte-e-teoria/
END:VEVENT
BEGIN:VEVENT
DTSTART;TZID=America/Sao_Paulo:20231019T090000
DTEND;TZID=America/Sao_Paulo:20231020T180000
DTSTAMP:20260425T200113
CREATED:20230822T132928Z
LAST-MODIFIED:20230822T132928Z
UID:4166-1697706000-1697824800@www.his.puc-rio.br
SUMMARY:[:pb]09h-18h. Seminário do Grupo Poesia e Imagem (História/Filosofia/Letras da PUC-Rio)[:]
DESCRIPTION:
URL:https://www.his.puc-rio.br/en/event/portugues-09h-18h-seminario-do-grupo-poesia-e-imagem-historia-filosofia-letras-da-puc-rio/
END:VEVENT
BEGIN:VEVENT
DTSTART;TZID=America/Sao_Paulo:20231023T110000
DTEND;TZID=America/Sao_Paulo:20231026T170000
DTSTAMP:20260425T200113
CREATED:20230822T133101Z
LAST-MODIFIED:20230822T133101Z
UID:4168-1698058800-1698339600@www.his.puc-rio.br
SUMMARY:[:pb]Seminário Ibero Conceptos. Org. Maisa (até dia 25)[:]
DESCRIPTION:
URL:https://www.his.puc-rio.br/en/event/portugues-seminario-ibero-conceptos-org-maisa-ate-dia-25/
END:VEVENT
BEGIN:VEVENT
DTSTART;TZID=America/Sao_Paulo:20231024T080000
DTEND;TZID=America/Sao_Paulo:20231025T170000
DTSTAMP:20260425T200113
CREATED:20230822T133156Z
LAST-MODIFIED:20230822T133156Z
UID:4170-1698134400-1698253200@www.his.puc-rio.br
SUMMARY:[:pb]As milícias de homens de cor: política e história social (séculos XVIII e XIX). Organização: Adriana Barreto\, Crislayne Alfagali e Hendrik Kraay. UFRural tarde/noite.[:]
DESCRIPTION:
URL:https://www.his.puc-rio.br/en/event/portugues-as-milicias-de-homens-de-cor-politica-e-historia-social-seculos-xviii-e-xix-organizacao-adriana-barreto-crislayne-alfagali-e-hendrik-kraay-ufrural-tarde-noite/
END:VEVENT
END:VCALENDAR