BEGIN:VCALENDAR
VERSION:2.0
PRODID:-//Departamento de História da PUC-Rio - ECPv6.7.0//NONSGML v1.0//EN
CALSCALE:GREGORIAN
METHOD:PUBLISH
X-WR-CALNAME:Departamento de História da PUC-Rio
X-ORIGINAL-URL:https://www.his.puc-rio.br/en
X-WR-CALDESC:Events for Departamento de História da PUC-Rio
REFRESH-INTERVAL;VALUE=DURATION:PT1H
X-Robots-Tag:noindex
X-PUBLISHED-TTL:PT1H
BEGIN:VTIMEZONE
TZID:America/Sao_Paulo
BEGIN:STANDARD
TZOFFSETFROM:-0300
TZOFFSETTO:-0300
TZNAME:-03
DTSTART:20240101T000000
END:STANDARD
END:VTIMEZONE
BEGIN:VEVENT
DTSTART;TZID=America/Sao_Paulo:20240513T090000
DTEND;TZID=America/Sao_Paulo:20240514T180000
DTSTAMP:20260423T042414
CREATED:20240305T182852Z
LAST-MODIFIED:20240405T165034Z
UID:4350-1715590800-1715709600@www.his.puc-rio.br
SUMMARY:[:pb]Seminário Internacional: "O escravismo de ponta-cabeça. Escravidão e abolição nas Américas"[:en]Seminário Internacional As Tredas Senzalas e a Força da Escravidão[:]
DESCRIPTION:Sorry\, this entry is only available in Português.  \nVeja a programação completa aqui 
URL:https://www.his.puc-rio.br/en/event/seminario-internacional-as-tredas-senzalas-e-a-forca-da-escravidao/
LOCATION:Auditório do IAG – PUC-Rio
END:VEVENT
BEGIN:VEVENT
DTSTART;TZID=America/Sao_Paulo:20240517T110000
DTEND;TZID=America/Sao_Paulo:20240517T130000
DTSTAMP:20260423T042414
CREATED:20240307T185608Z
LAST-MODIFIED:20240307T185608Z
UID:4373-1715943600-1715950800@www.his.puc-rio.br
SUMMARY:Reunião do Laboratório de Pesquisas em Conexões Atlânticas
DESCRIPTION:
URL:https://www.his.puc-rio.br/en/event/reuniao-do-laboratorio-de-pesquisas-em-conexoes-atlanticas-3/
LOCATION:Sala F506
END:VEVENT
BEGIN:VEVENT
DTSTART;TZID=America/Sao_Paulo:20240517T140000
DTEND;TZID=America/Sao_Paulo:20240517T170000
DTSTAMP:20260423T042414
CREATED:20240517T102307Z
LAST-MODIFIED:20240517T102307Z
UID:4522-1715954400-1715965200@www.his.puc-rio.br
SUMMARY:[:pb]Conferência “Uma guerra inevitável? Origens\, história e dinâmicas da guerra de jihad no atual norte de Moçambique.” Com Prof. Dr. Eric Morier-Genoud[:]
DESCRIPTION:Sorry\, this entry is only available in Português. Mais informações aqui.
URL:https://www.his.puc-rio.br/en/event/portugues-conferencia-uma-guerra-inevitavel-origens-historia-e-dinamicas-da-guerra-de-jihad-no-atual-norte-de-mocambique-com-prof-dr-eric-morier-genoud/
END:VEVENT
END:VCALENDAR