BEGIN:VCALENDAR
VERSION:2.0
PRODID:-//Departamento de História da PUC-Rio - ECPv6.7.0//NONSGML v1.0//EN
CALSCALE:GREGORIAN
METHOD:PUBLISH
X-WR-CALNAME:Departamento de História da PUC-Rio
X-ORIGINAL-URL:https://www.his.puc-rio.br/en
X-WR-CALDESC:Events for Departamento de História da PUC-Rio
REFRESH-INTERVAL;VALUE=DURATION:PT1H
X-Robots-Tag:noindex
X-PUBLISHED-TTL:PT1H
BEGIN:VTIMEZONE
TZID:America/Sao_Paulo
BEGIN:STANDARD
TZOFFSETFROM:-0300
TZOFFSETTO:-0300
TZNAME:-03
DTSTART:20240101T000000
END:STANDARD
END:VTIMEZONE
BEGIN:VEVENT
DTSTART;TZID=America/Sao_Paulo:20240812T090000
DTEND;TZID=America/Sao_Paulo:20240813T170000
DTSTAMP:20260421T213843
CREATED:20240307T190034Z
LAST-MODIFIED:20240307T190034Z
UID:4377-1723453200-1723568400@www.his.puc-rio.br
SUMMARY:Seminário Internacional “A tinta e o cárcere: escritos de presos comuns (séc. XIX-XX)”
DESCRIPTION:
URL:https://www.his.puc-rio.br/en/event/seminario-internacional-a-tinta-e-o-carcere-escritos-de-presos-comuns-sec-xix-xx/
LOCATION:Laboratório de Pesquisas em Conexôes Atlânticas
END:VEVENT
BEGIN:VEVENT
DTSTART;TZID=America/Sao_Paulo:20240822T133000
DTEND;TZID=America/Sao_Paulo:20240822T153000
DTSTAMP:20260421T213843
CREATED:20240801T182513Z
LAST-MODIFIED:20240801T182513Z
UID:4626-1724333400-1724340600@www.his.puc-rio.br
SUMMARY:[:pb]Debate com os convidados Pedro Duarte\, Nuno Ramos\, Camillo e Sérgio (História) e Manuela (ex-Pós-doc)[:]
DESCRIPTION:
URL:https://www.his.puc-rio.br/en/event/portugues-debate-com-os-convidados-pedro-duarte-nuno-ramos-camillo-e-sergio-historia-e-manuela-ex-pos-doc/
LOCATION:L 1156
END:VEVENT
BEGIN:VEVENT
DTSTART;TZID=America/Sao_Paulo:20240823T110000
DTEND;TZID=America/Sao_Paulo:20240823T130000
DTSTAMP:20260421T213843
CREATED:20240718T114758Z
LAST-MODIFIED:20240718T114758Z
UID:4616-1724410800-1724418000@www.his.puc-rio.br
SUMMARY:Palestra da profa. Luciana Villas Boas
DESCRIPTION:
URL:https://www.his.puc-rio.br/en/event/palestra-da-profa-luciana-villas-boas/
LOCATION:Sala F502
END:VEVENT
BEGIN:VEVENT
DTSTART;TZID=America/Sao_Paulo:20240830T110000
DTEND;TZID=America/Sao_Paulo:20240830T170000
DTSTAMP:20260421T213843
CREATED:20240816T142338Z
LAST-MODIFIED:20240826T122835Z
UID:4646-1725015600-1725037200@www.his.puc-rio.br
SUMMARY:[:pb]Reunião da Linha Experiências e Conexões Culturais[:]
DESCRIPTION:Sorry\, this entry is only available in Português. • Bruna Almeida e Crislayne Alfagali\nBento Pereira Henriques e Domingos Ferreira de Assunção (Quitúbia): Trajetórias de\nhomens pretos militares a partir de Angola. \n• Priscila Oliveira\n“La experiencia carcelaria en crónicas y noQcias”.
URL:https://www.his.puc-rio.br/en/event/portugues-reuniao-da-linha-experiencias-e-conexoes-culturais/
LOCATION:Sala F502
END:VEVENT
END:VCALENDAR