BEGIN:VCALENDAR
VERSION:2.0
PRODID:-//Departamento de História da PUC-Rio - ECPv6.7.0//NONSGML v1.0//EN
CALSCALE:GREGORIAN
METHOD:PUBLISH
X-WR-CALNAME:Departamento de História da PUC-Rio
X-ORIGINAL-URL:https://www.his.puc-rio.br/en
X-WR-CALDESC:Events for Departamento de História da PUC-Rio
REFRESH-INTERVAL;VALUE=DURATION:PT1H
X-Robots-Tag:noindex
X-PUBLISHED-TTL:PT1H
BEGIN:VTIMEZONE
TZID:America/Sao_Paulo
BEGIN:STANDARD
TZOFFSETFROM:-0300
TZOFFSETTO:-0300
TZNAME:-03
DTSTART:20250101T000000
END:STANDARD
END:VTIMEZONE
BEGIN:VEVENT
DTSTART;TZID=America/Sao_Paulo:20250314T110000
DTEND;TZID=America/Sao_Paulo:20250314T130000
DTSTAMP:20260425T125359
CREATED:20250310T175016Z
LAST-MODIFIED:20250310T175016Z
UID:4793-1741950000-1741957200@www.his.puc-rio.br
SUMMARY:[:pb]História às Sextas - Tomaz de Tassis: "As relações entre Estética\, História e Filosofia na obra de Vilém Flusser.[:]
DESCRIPTION:Sorry\, this entry is only available in Português.  \nHistória às Sextas e a Pós Graduação de História convida:\nTomaz de Tassis\, apresentará seu projeto de pesquisa “As relações entre Estética\, História e Filosofia na obra de Vilém Flusser.\nDia 14/03/25\, às 11h na sala F502
URL:https://www.his.puc-rio.br/en/event/portugues-historia-as-sextas-tomaz-de-tassis-as-relacoes-entre-estetica-historia-e-filosofia-na-obra-de-vilem-flusser/
LOCATION:Sala F502
ATTACH;FMTTYPE=image/png:https://www.his.puc-rio.br/wp-content/uploads/Cartaz-Professor-Henrique-2025-site.png
END:VEVENT
BEGIN:VEVENT
DTSTART;TZID=America/Sao_Paulo:20250328T090000
DTEND;TZID=America/Sao_Paulo:20250328T130000
DTSTAMP:20260425T125359
CREATED:20250313T172042Z
LAST-MODIFIED:20250313T172258Z
UID:4810-1743152400-1743166800@www.his.puc-rio.br
SUMMARY:[:pb]Visita guiada na Pequena África [:]
DESCRIPTION:
URL:https://www.his.puc-rio.br/en/event/portugues-visita-guiada-na-pequena-africa/
END:VEVENT
BEGIN:VEVENT
DTSTART;TZID=America/Sao_Paulo:20250328T110000
DTEND;TZID=America/Sao_Paulo:20250328T130000
DTSTAMP:20260425T125359
CREATED:20250312T134340Z
LAST-MODIFIED:20250312T134340Z
UID:4795-1743159600-1743166800@www.his.puc-rio.br
SUMMARY:[:pb]Palestra com Diego Galeano (PUC-Rio) e Fidel Rodrigues Velasquez sobre: Economia e história social[:]
DESCRIPTION:Sorry\, this entry is only available in Português. Laboratório de Pesquisa em Conexões Atlânticas convida para Palestra com Diego Galeano (PUC-Rio) e Fidel Rodrigues Velasquez sobre: Economia e história social \nDiego Galeano\, “Todo dinheiro é falso: história de um mercado ilegal\, 1890-1940”\nFidel Rodríguez Velasquez\, “O Preço das Pérolas e a Globalização Ibérica nos Oceanos Atlântico e Índico (1500-1540)”.
URL:https://www.his.puc-rio.br/en/event/portugues-palestra-com-diego-galeano-puc-rio-e-fidel-rodrigues-velasquez-sobre-economia-e-historia-social/
LOCATION:F502
END:VEVENT
END:VCALENDAR