BEGIN:VCALENDAR
VERSION:2.0
PRODID:-//Departamento de História da PUC-Rio - ECPv6.7.0//NONSGML v1.0//EN
CALSCALE:GREGORIAN
METHOD:PUBLISH
X-WR-CALNAME:Departamento de História da PUC-Rio
X-ORIGINAL-URL:https://www.his.puc-rio.br/en
X-WR-CALDESC:Events for Departamento de História da PUC-Rio
REFRESH-INTERVAL;VALUE=DURATION:PT1H
X-Robots-Tag:noindex
X-PUBLISHED-TTL:PT1H
BEGIN:VTIMEZONE
TZID:America/Sao_Paulo
BEGIN:STANDARD
TZOFFSETFROM:-0300
TZOFFSETTO:-0300
TZNAME:-03
DTSTART:20250101T000000
END:STANDARD
END:VTIMEZONE
BEGIN:VEVENT
DTSTART;TZID=America/Sao_Paulo:20250902T103000
DTEND;TZID=America/Sao_Paulo:20250903T170000
DTSTAMP:20260425T103837
CREATED:20250605T133317Z
LAST-MODIFIED:20250605T133317Z
UID:4872-1756809000-1756918800@www.his.puc-rio.br
SUMMARY:[:pb]Histórias ecosóficas: arte\, natureza e pensamento[:]
DESCRIPTION:
URL:https://www.his.puc-rio.br/en/event/portugues-historias-ecosoficas-arte-natureza-e-pensamento/
LOCATION:Sala Walmer – F515
END:VEVENT
BEGIN:VEVENT
DTSTART;TZID=America/Sao_Paulo:20250903T090000
DTEND;TZID=America/Sao_Paulo:20250905T170000
DTSTAMP:20260425T103837
CREATED:20250627T142821Z
LAST-MODIFIED:20250627T142946Z
UID:4949-1756890000-1757091600@www.his.puc-rio.br
SUMMARY:[:pb]Seminário Internacional - "A tinta e o cárcere: escritos de presos políticos e comuns (séculos XIX e XX)"[:]
DESCRIPTION:Sorry\, this entry is only available in Português.  \nMais informações aqui.
URL:https://www.his.puc-rio.br/en/event/portugues-seminario-internacional-a-tinta-e-o-carcere-escritos-de-presos-politicos-e-comuns-seculos-xix-e-xx/
LOCATION:Auditório do IAG – PUC-Rio
ATTACH;FMTTYPE=image/png:https://www.his.puc-rio.br/wp-content/uploads/Seminario-internacional-Historia-02-site-1.png
END:VEVENT
BEGIN:VEVENT
DTSTART;TZID=America/Sao_Paulo:20250905T100000
DTEND;TZID=America/Sao_Paulo:20250905T130000
DTSTAMP:20260425T103837
CREATED:20250624T132045Z
LAST-MODIFIED:20250624T132045Z
UID:4911-1757066400-1757077200@www.his.puc-rio.br
SUMMARY:[:pb]Reunião do Colegiado da Pós-Graduação[:]
DESCRIPTION:
URL:https://www.his.puc-rio.br/en/event/portugues-reuniao-do-colegiado-da-pos-graduacao/
LOCATION:Sala Walmer – F515
END:VEVENT
BEGIN:VEVENT
DTSTART;TZID=America/Sao_Paulo:20250909T090000
DTEND;TZID=America/Sao_Paulo:20250911T170000
DTSTAMP:20260425T103837
CREATED:20250606T120225Z
LAST-MODIFIED:20250606T120225Z
UID:4878-1757408400-1757610000@www.his.puc-rio.br
SUMMARY:[:pb]Jordana Discente Da Pós-Graduação[:]
DESCRIPTION:
URL:https://www.his.puc-rio.br/en/event/portugues-jordana-discente-da-pos-graduacao/
END:VEVENT
BEGIN:VEVENT
DTSTART;TZID=America/Sao_Paulo:20250912T110000
DTEND;TZID=America/Sao_Paulo:20250912T170000
DTSTAMP:20260425T103837
CREATED:20250708T184022Z
LAST-MODIFIED:20250708T184022Z
UID:4959-1757674800-1757696400@www.his.puc-rio.br
SUMMARY:[:pb]Apresentação da Coleção História e Cultura[:]
DESCRIPTION:
URL:https://www.his.puc-rio.br/en/event/portugues-apresentacao-da-colecao-historia-e-cultura/
LOCATION:Sala F502
END:VEVENT
BEGIN:VEVENT
DTSTART;TZID=America/Sao_Paulo:20250919T083000
DTEND;TZID=America/Sao_Paulo:20250919T130000
DTSTAMP:20260425T103837
CREATED:20250828T100819Z
LAST-MODIFIED:20250828T100819Z
UID:5020-1758270600-1758286800@www.his.puc-rio.br
SUMMARY:[:pb]Visita Guiada ao Morro da Providência [:]
DESCRIPTION:
URL:https://www.his.puc-rio.br/en/event/portugues-visita-guiada-ao-morro-da-providencia-4/
LOCATION:Morro da Providência\, Rio de Janeiro\, Brasil
END:VEVENT
BEGIN:VEVENT
DTSTART;TZID=America/Sao_Paulo:20250919T110000
DTEND;TZID=America/Sao_Paulo:20250919T170000
DTSTAMP:20260425T103837
CREATED:20250515T143523Z
LAST-MODIFIED:20250515T143626Z
UID:4851-1758279600-1758301200@www.his.puc-rio.br
SUMMARY:[:pb]Palestra com Juliana Gambogi: sobre a nova tradução e edição critica de " A feiticeira" de Jules Michelet.[:]
DESCRIPTION:
URL:https://www.his.puc-rio.br/en/event/portugues-palestra-com-juliana-gambogi-sobre-a-nova-traducao-e-edicao-critica-de-a-feiticeira-de-jules-michelet/
END:VEVENT
BEGIN:VEVENT
DTSTART;TZID=America/Sao_Paulo:20250922T160000
DTEND;TZID=America/Sao_Paulo:20250925T190000
DTSTAMP:20260425T103837
CREATED:20250624T140333Z
LAST-MODIFIED:20250624T140333Z
UID:4923-1758556800-1758826800@www.his.puc-rio.br
SUMMARY:[:pb]Minicurso - Mundos Possíveis: Vilém Flusser e o multilateralismo - Com Tomaz de Tassis[:]
DESCRIPTION:
URL:https://www.his.puc-rio.br/en/event/portugues-minicurso-mundos-possiveis-vilem-flusser-e-o-multilateralismo-com-tomaz-de-tassis/
END:VEVENT
BEGIN:VEVENT
DTSTART;TZID=America/Sao_Paulo:20250926T110000
DTEND;TZID=America/Sao_Paulo:20250926T130000
DTSTAMP:20260425T103837
CREATED:20250624T132839Z
LAST-MODIFIED:20250624T132839Z
UID:4920-1758884400-1758891600@www.his.puc-rio.br
SUMMARY:[:pb]História às Sextas com Julio Pimentel: "História e Ficção".[:]
DESCRIPTION:
URL:https://www.his.puc-rio.br/en/event/portugues-historia-as-sextas-com-julio-pimentel-historia-e-ficcao/
LOCATION:Sala Walmer – F515
END:VEVENT
BEGIN:VEVENT
DTSTART;TZID=America/Sao_Paulo:20250926T140000
DTEND;TZID=America/Sao_Paulo:20250927T030000
DTSTAMP:20260425T103837
CREATED:20250812T151921Z
LAST-MODIFIED:20250812T151921Z
UID:4988-1758895200-1758942000@www.his.puc-rio.br
SUMMARY:[:pb]LABORATÓRIO DE CONEXÕES ATLÂNTICAS - Imprensa e crime em perspectiva histórica[:]
DESCRIPTION:Sorry\, this entry is only available in Português.  \nLABORATÓRIO DE CONEXÕES ATLÂNTICAS – Imprensa e crime em perspectiva histórica \n\nRodrigo Camargo de Godoi (Unicamp). “O tribunal do júri e os crimes de imprensa no Primeiro Reinado”.\nAmanda Tortato. “Confraria dos moços bonitos”: a racialização do conto do vigário no Rio de Janeiro da Primeira República.
URL:https://www.his.puc-rio.br/en/event/portugues-laboratorio-de-conexoes-atlanticas-imprensa-e-crime-em-perspectiva-historica/
LOCATION:Sala Walmer – F515
END:VEVENT
END:VCALENDAR