BEGIN:VCALENDAR
VERSION:2.0
PRODID:-//Departamento de História da PUC-Rio - ECPv6.7.0//NONSGML v1.0//EN
CALSCALE:GREGORIAN
METHOD:PUBLISH
X-WR-CALNAME:Departamento de História da PUC-Rio
X-ORIGINAL-URL:https://www.his.puc-rio.br/en
X-WR-CALDESC:Events for Departamento de História da PUC-Rio
REFRESH-INTERVAL;VALUE=DURATION:PT1H
X-Robots-Tag:noindex
X-PUBLISHED-TTL:PT1H
BEGIN:VTIMEZONE
TZID:America/Sao_Paulo
BEGIN:STANDARD
TZOFFSETFROM:-0300
TZOFFSETTO:-0300
TZNAME:-03
DTSTART:20230101T000000
END:STANDARD
END:VTIMEZONE
BEGIN:VEVENT
DTSTART;TZID=America/Sao_Paulo:20231108T130000
DTEND;TZID=America/Sao_Paulo:20231108T150000
DTSTAMP:20260425T153939
CREATED:20230822T134026Z
LAST-MODIFIED:20230822T134026Z
UID:4174-1699448400-1699455600@www.his.puc-rio.br
SUMMARY:[:pb]Seminários das  Linhas - Projetos[:]
DESCRIPTION:
URL:https://www.his.puc-rio.br/en/event/portugues-seminarios-das-linhas-projetos-3/
END:VEVENT
END:VCALENDAR