BEGIN:VCALENDAR
VERSION:2.0
PRODID:-//Departamento de História da PUC-Rio - ECPv6.7.0//NONSGML v1.0//EN
CALSCALE:GREGORIAN
METHOD:PUBLISH
X-ORIGINAL-URL:https://www.his.puc-rio.br/en
X-WR-CALDESC:Events for Departamento de História da PUC-Rio
REFRESH-INTERVAL;VALUE=DURATION:PT1H
X-Robots-Tag:noindex
X-PUBLISHED-TTL:PT1H
BEGIN:VTIMEZONE
TZID:America/Sao_Paulo
BEGIN:STANDARD
TZOFFSETFROM:-0300
TZOFFSETTO:-0300
TZNAME:-03
DTSTART:20230101T000000
END:STANDARD
END:VTIMEZONE
BEGIN:VEVENT
DTSTART;VALUE=DATE:20231120
DTEND;VALUE=DATE:20231121
DTSTAMP:20260425T154240
CREATED:20230822T134154Z
LAST-MODIFIED:20230822T134154Z
UID:4178-1700438400-1700524799@www.his.puc-rio.br
SUMMARY:[:pb]Feriado - Dia da Conciência Negra[:]
DESCRIPTION:
URL:https://www.his.puc-rio.br/en/event/portugues-feriado-dia-da-conciencia-negra/
END:VEVENT
END:VCALENDAR