BEGIN:VCALENDAR
VERSION:2.0
PRODID:-//Departamento de História da PUC-Rio - ECPv6.7.0//NONSGML v1.0//EN
CALSCALE:GREGORIAN
METHOD:PUBLISH
X-WR-CALNAME:Departamento de História da PUC-Rio
X-ORIGINAL-URL:https://www.his.puc-rio.br/en
X-WR-CALDESC:Events for Departamento de História da PUC-Rio
REFRESH-INTERVAL;VALUE=DURATION:PT1H
X-Robots-Tag:noindex
X-PUBLISHED-TTL:PT1H
BEGIN:VTIMEZONE
TZID:America/Sao_Paulo
BEGIN:STANDARD
TZOFFSETFROM:-0300
TZOFFSETTO:-0300
TZNAME:-03
DTSTART:20250101T000000
END:STANDARD
END:VTIMEZONE
BEGIN:VEVENT
DTSTART;TZID=America/Sao_Paulo:20250411T090000
DTEND;TZID=America/Sao_Paulo:20250411T103000
DTSTAMP:20260425T094353
CREATED:20250317T140940Z
LAST-MODIFIED:20250317T140940Z
UID:4814-1744362000-1744367400@www.his.puc-rio.br
SUMMARY:[:pb]Comissão Geral Ampliada [:]
DESCRIPTION:
URL:https://www.his.puc-rio.br/en/event/portugues-comissao-geral-ampliada/
END:VEVENT
BEGIN:VEVENT
DTSTART;TZID=America/Sao_Paulo:20250411T103000
DTEND;TZID=America/Sao_Paulo:20250411T120000
DTSTAMP:20260425T094353
CREATED:20250317T141050Z
LAST-MODIFIED:20250317T141050Z
UID:4816-1744367400-1744372800@www.his.puc-rio.br
SUMMARY:[:pb]Reunião Colegiado da Pós-Graduação [:]
DESCRIPTION:
URL:https://www.his.puc-rio.br/en/event/portugues-reuniao-colegiado-da-pos-graduacao/
END:VEVENT
END:VCALENDAR