BEGIN:VCALENDAR
VERSION:2.0
PRODID:-//Departamento de História da PUC-Rio - ECPv6.7.0//NONSGML v1.0//EN
CALSCALE:GREGORIAN
METHOD:PUBLISH
X-ORIGINAL-URL:https://www.his.puc-rio.br/en
X-WR-CALDESC:Events for Departamento de História da PUC-Rio
REFRESH-INTERVAL;VALUE=DURATION:PT1H
X-Robots-Tag:noindex
X-PUBLISHED-TTL:PT1H
BEGIN:VTIMEZONE
TZID:America/Sao_Paulo
BEGIN:STANDARD
TZOFFSETFROM:-0300
TZOFFSETTO:-0300
TZNAME:-03
DTSTART:20250101T000000
END:STANDARD
END:VTIMEZONE
BEGIN:VEVENT
DTSTART;TZID=America/Sao_Paulo:20250516T110000
DTEND;TZID=America/Sao_Paulo:20250516T130000
DTSTAMP:20260425T234658
CREATED:20250430T114841Z
LAST-MODIFIED:20250430T131505Z
UID:4838-1747393200-1747400400@www.his.puc-rio.br
SUMMARY:[:pb]Lançamento de Livro - Profs. Mario Ângelo e Juçara Barbosa[:]
DESCRIPTION:
URL:https://www.his.puc-rio.br/en/event/portugues-lancamento-de-livro-profs-mario-angelo-e-jucara-barbosa/
LOCATION:F502
END:VEVENT
END:VCALENDAR