BEGIN:VCALENDAR
VERSION:2.0
PRODID:-//Departamento de História da PUC-Rio - ECPv6.7.0//NONSGML v1.0//EN
CALSCALE:GREGORIAN
METHOD:PUBLISH
X-ORIGINAL-URL:https://www.his.puc-rio.br/en
X-WR-CALDESC:Events for Departamento de História da PUC-Rio
REFRESH-INTERVAL;VALUE=DURATION:PT1H
X-Robots-Tag:noindex
X-PUBLISHED-TTL:PT1H
BEGIN:VTIMEZONE
TZID:America/Sao_Paulo
BEGIN:STANDARD
TZOFFSETFROM:-0300
TZOFFSETTO:-0300
TZNAME:-03
DTSTART:20250101T000000
END:STANDARD
END:VTIMEZONE
BEGIN:VEVENT
DTSTART;TZID=America/Sao_Paulo:20250829T100000
DTEND;TZID=America/Sao_Paulo:20250829T170000
DTSTAMP:20260425T091540
CREATED:20250708T184118Z
LAST-MODIFIED:20250708T184118Z
UID:4961-1756461600-1756486800@www.his.puc-rio.br
SUMMARY:[:pb]Comissão Geral [:]
DESCRIPTION:
URL:https://www.his.puc-rio.br/en/event/portugues-comissao-geral-2/
LOCATION:Sala Walmer – F515
END:VEVENT
BEGIN:VEVENT
DTSTART;TZID=America/Sao_Paulo:20250829T140000
DTEND;TZID=America/Sao_Paulo:20250829T160000
DTSTAMP:20260425T091540
CREATED:20250812T151405Z
LAST-MODIFIED:20250818T130419Z
UID:4986-1756476000-1756483200@www.his.puc-rio.br
SUMMARY:[:pb]LABORATÓRIO DE CONEXÕES ATLÂNTICAS - Democracia e autoritarismo no pós-1945: relações de gênero\, disputas políticas e violações aos Direitos Humanos no Brasil[:]
DESCRIPTION:Sorry\, this entry is only available in Português.  \nLABORATÓRIO DE CONEXÕES ATLÂNTICAS apresenta: \n“Democracia e autoritarismo no pós-1945: relações de gênero\, disputas políticas e violações aos Direitos Humanos no Brasil” \n– Isadora Gomes. ” As rosas não falam: uma relação entre indigência\, desaparecimento administrativo\, desaparecimento forçado e desaparecimento social durante a ditadura militar brasileira”.– Ana Clara Tavares. “A politização da vida doméstica: as trabalhadoras e as organizações femininas no Rio de Janeiro (1946-1963).
URL:https://www.his.puc-rio.br/en/event/portugues-laboratorio-de-conexoes-atlanticas-democracia-e-autoritarismo-no-pos-1945-relacoes-de-genero-disputas-politicas-e-violacoes-aos-direitos-humanos-no-brasil/
LOCATION:Sala Walmer – F515
END:VEVENT
END:VCALENDAR