BEGIN:VCALENDAR
VERSION:2.0
PRODID:-//Departamento de História da PUC-Rio - ECPv6.7.0//NONSGML v1.0//EN
CALSCALE:GREGORIAN
METHOD:PUBLISH
X-ORIGINAL-URL:https://www.his.puc-rio.br/en
X-WR-CALDESC:Events for Departamento de História da PUC-Rio
REFRESH-INTERVAL;VALUE=DURATION:PT1H
X-Robots-Tag:noindex
X-PUBLISHED-TTL:PT1H
BEGIN:VTIMEZONE
TZID:America/Sao_Paulo
BEGIN:STANDARD
TZOFFSETFROM:-0300
TZOFFSETTO:-0300
TZNAME:-03
DTSTART:20250101T000000
END:STANDARD
END:VTIMEZONE
BEGIN:VEVENT
DTSTART;TZID=America/Sao_Paulo:20251031T110000
DTEND;TZID=America/Sao_Paulo:20251031T133000
DTSTAMP:20260424T182526
CREATED:20250812T152253Z
LAST-MODIFIED:20250812T152253Z
UID:4990-1761908400-1761917400@www.his.puc-rio.br
SUMMARY:[:pb]LABORATÓRIO DE CONEXÕES ATLÂNTICAS - Diálogos no pós-abolição entre Argentina e Brasil[:]
DESCRIPTION:Sorry\, this entry is only available in Português.  \nLABORATÓRIO DE CONEXÕES ATLÂNTICAS – Diálogos no pós-abolição entre Argentina e Brasil \n– Ariel Viola. A abolição após a abolição. Historiografias\, problemáticas e métodos para pensar o fim da escravidão em Argentina durante a segunda metade do século XIX. \n– Tiago Luiz dos Santos Ribeiro. “Uma festa francesa à brasileira: diálogos entre a mi-carême\, os carnavais do Rio de Janeiro e Salvador e a construção de sentido da micareta (1908-1935)”.
URL:https://www.his.puc-rio.br/en/event/portugues-laboratorio-de-conexoes-atlanticas-dialogos-no-pos-abolicao-entre-argentina-e-brasil/
LOCATION:Sala Walmer – F515
END:VEVENT
END:VCALENDAR