BEGIN:VCALENDAR
VERSION:2.0
PRODID:-//Departamento de História da PUC-Rio - ECPv6.7.0//NONSGML v1.0//EN
CALSCALE:GREGORIAN
METHOD:PUBLISH
X-ORIGINAL-URL:https://www.his.puc-rio.br/en
X-WR-CALDESC:Events for Departamento de História da PUC-Rio
REFRESH-INTERVAL;VALUE=DURATION:PT1H
X-Robots-Tag:noindex
X-PUBLISHED-TTL:PT1H
BEGIN:VTIMEZONE
TZID:America/Sao_Paulo
BEGIN:STANDARD
TZOFFSETFROM:-0300
TZOFFSETTO:-0300
TZNAME:-03
DTSTART:20260101T000000
END:STANDARD
END:VTIMEZONE
BEGIN:VEVENT
DTSTART;TZID=America/Sao_Paulo:20260619T110000
DTEND;TZID=America/Sao_Paulo:20260619T130000
DTSTAMP:20260422T052439
CREATED:20251030T124042Z
LAST-MODIFIED:20251030T124042Z
UID:5144-1781866800-1781874000@www.his.puc-rio.br
SUMMARY:[:pb]Comissão Geral Ampliada[:]
DESCRIPTION:
URL:https://www.his.puc-rio.br/en/event/portugues-comissao-geral-ampliada-3/
LOCATION:Sala Walmer – F515
END:VEVENT
END:VCALENDAR