BEGIN:VCALENDAR
VERSION:2.0
PRODID:-//Departamento de História da PUC-Rio - ECPv6.7.0//NONSGML v1.0//EN
CALSCALE:GREGORIAN
METHOD:PUBLISH
X-WR-CALNAME:Departamento de História da PUC-Rio
X-ORIGINAL-URL:https://www.his.puc-rio.br/pb
X-WR-CALDESC:Eventos para Departamento de História da PUC-Rio
REFRESH-INTERVAL;VALUE=DURATION:PT1H
X-Robots-Tag:noindex
X-PUBLISHED-TTL:PT1H
BEGIN:VTIMEZONE
TZID:America/Sao_Paulo
BEGIN:STANDARD
TZOFFSETFROM:-0300
TZOFFSETTO:-0300
TZNAME:-03
DTSTART:20230101T000000
END:STANDARD
END:VTIMEZONE
BEGIN:VEVENT
DTSTART;TZID=America/Sao_Paulo:20230915T100000
DTEND;TZID=America/Sao_Paulo:20230915T130000
DTSTAMP:20260425T170839
CREATED:20230822T130906Z
LAST-MODIFIED:20230822T130906Z
UID:4154-1694772000-1694782800@www.his.puc-rio.br
SUMMARY:[:pb]10h Reunião de Planejamento para 2024[:]
DESCRIPTION:
URL:https://www.his.puc-rio.br/pb/event/10h-reuniao-de-planejamento-para-2024/
END:VEVENT
END:VCALENDAR