BEGIN:VCALENDAR
VERSION:2.0
PRODID:-//Departamento de História da PUC-Rio - ECPv6.7.0//NONSGML v1.0//EN
CALSCALE:GREGORIAN
METHOD:PUBLISH
X-WR-CALNAME:Departamento de História da PUC-Rio
X-ORIGINAL-URL:https://www.his.puc-rio.br/pb
X-WR-CALDESC:Eventos para Departamento de História da PUC-Rio
REFRESH-INTERVAL;VALUE=DURATION:PT1H
X-Robots-Tag:noindex
X-PUBLISHED-TTL:PT1H
BEGIN:VTIMEZONE
TZID:America/Sao_Paulo
BEGIN:STANDARD
TZOFFSETFROM:-0300
TZOFFSETTO:-0300
TZNAME:-03
DTSTART:20230101T000000
END:STANDARD
END:VTIMEZONE
BEGIN:VEVENT
DTSTART;TZID=America/Sao_Paulo:20231122T080000
DTEND;TZID=America/Sao_Paulo:20231122T170000
DTSTAMP:20260425T153326
CREATED:20230822T134233Z
LAST-MODIFIED:20230822T134233Z
UID:4180-1700640000-1700672400@www.his.puc-rio.br
SUMMARY:[:pb]Atividade Professor Visitante - Matheus Pereira [:]
DESCRIPTION:
URL:https://www.his.puc-rio.br/pb/event/atividade-professor-visitante-matheus-pereira/
END:VEVENT
END:VCALENDAR