BEGIN:VCALENDAR
VERSION:2.0
PRODID:-//Departamento de História da PUC-Rio - ECPv6.7.0//NONSGML v1.0//EN
CALSCALE:GREGORIAN
METHOD:PUBLISH
X-ORIGINAL-URL:https://www.his.puc-rio.br/pb
X-WR-CALDESC:Eventos para Departamento de História da PUC-Rio
REFRESH-INTERVAL;VALUE=DURATION:PT1H
X-Robots-Tag:noindex
X-PUBLISHED-TTL:PT1H
BEGIN:VTIMEZONE
TZID:America/Sao_Paulo
BEGIN:STANDARD
TZOFFSETFROM:-0300
TZOFFSETTO:-0300
TZNAME:-03
DTSTART:20240101T000000
END:STANDARD
END:VTIMEZONE
BEGIN:VEVENT
DTSTART;TZID=America/Sao_Paulo:20240706T080000
DTEND;TZID=America/Sao_Paulo:20240706T170000
DTSTAMP:20260422T185707
CREATED:20240319T104927Z
LAST-MODIFIED:20240319T104927Z
UID:4420-1720252800-1720285200@www.his.puc-rio.br
SUMMARY:[:pb]Termino das atividades acadêmicas do primeiro semestre.[:]
DESCRIPTION:
URL:https://www.his.puc-rio.br/pb/event/termino-das-atividades-academicas-do-primeiro-semestre/
END:VEVENT
END:VCALENDAR