BEGIN:VCALENDAR
VERSION:2.0
PRODID:-//Departamento de História da PUC-Rio - ECPv6.7.0//NONSGML v1.0//EN
CALSCALE:GREGORIAN
METHOD:PUBLISH
X-ORIGINAL-URL:https://www.his.puc-rio.br/pb
X-WR-CALDESC:Eventos para Departamento de História da PUC-Rio
REFRESH-INTERVAL;VALUE=DURATION:PT1H
X-Robots-Tag:noindex
X-PUBLISHED-TTL:PT1H
BEGIN:VTIMEZONE
TZID:America/Sao_Paulo
BEGIN:STANDARD
TZOFFSETFROM:-0300
TZOFFSETTO:-0300
TZNAME:-03
DTSTART:20250101T000000
END:STANDARD
END:VTIMEZONE
BEGIN:VEVENT
DTSTART;TZID=America/Sao_Paulo:20250822T110000
DTEND;TZID=America/Sao_Paulo:20250822T130000
DTSTAMP:20260425T193000
CREATED:20250714T181141Z
LAST-MODIFIED:20250714T181141Z
UID:4970-1755860400-1755867600@www.his.puc-rio.br
SUMMARY:[:pb]História às Sextas - Palestra com Fábio Luis Franco[:]
DESCRIPTION:
URL:https://www.his.puc-rio.br/pb/event/historia-as-sextas-palestra-com-fabio-luis-franco/
LOCATION:F502
END:VEVENT
END:VCALENDAR