BEGIN:VCALENDAR
VERSION:2.0
PRODID:-//Departamento de História da PUC-Rio - ECPv6.7.0//NONSGML v1.0//EN
CALSCALE:GREGORIAN
METHOD:PUBLISH
X-ORIGINAL-URL:https://www.his.puc-rio.br/pb
X-WR-CALDESC:Eventos para Departamento de História da PUC-Rio
REFRESH-INTERVAL;VALUE=DURATION:PT1H
X-Robots-Tag:noindex
X-PUBLISHED-TTL:PT1H
BEGIN:VTIMEZONE
TZID:America/Sao_Paulo
BEGIN:STANDARD
TZOFFSETFROM:-0300
TZOFFSETTO:-0300
TZNAME:-03
DTSTART:20250101T000000
END:STANDARD
END:VTIMEZONE
BEGIN:VEVENT
DTSTART;TZID=America/Sao_Paulo:20251103T080000
DTEND;TZID=America/Sao_Paulo:20251105T170000
DTSTAMP:20260424T170244
CREATED:20250314T140435Z
LAST-MODIFIED:20250624T133348Z
UID:4812-1762156800-1762362000@www.his.puc-rio.br
SUMMARY:[:pb]Mini-curso com Ewa Domańska: ECOLOGICAL HUMANITIES.[:]
DESCRIPTION:
URL:https://www.his.puc-rio.br/pb/event/minicurso-com-ewa-domanska/
END:VEVENT
END:VCALENDAR