BEGIN:VCALENDAR
VERSION:2.0
PRODID:-//Departamento de História da PUC-Rio - ECPv6.7.0//NONSGML v1.0//EN
CALSCALE:GREGORIAN
METHOD:PUBLISH
X-ORIGINAL-URL:https://www.his.puc-rio.br/pb
X-WR-CALDESC:Eventos para Departamento de História da PUC-Rio
REFRESH-INTERVAL;VALUE=DURATION:PT1H
X-Robots-Tag:noindex
X-PUBLISHED-TTL:PT1H
BEGIN:VTIMEZONE
TZID:America/Sao_Paulo
BEGIN:STANDARD
TZOFFSETFROM:-0300
TZOFFSETTO:-0300
TZNAME:-03
DTSTART:20260101T000000
END:STANDARD
END:VTIMEZONE
BEGIN:VEVENT
DTSTART;TZID=America/Sao_Paulo:20260417T110000
DTEND;TZID=America/Sao_Paulo:20260417T130000
DTSTAMP:20260421T204149
CREATED:20251030T123948Z
LAST-MODIFIED:20251030T123948Z
UID:5142-1776423600-1776430800@www.his.puc-rio.br
SUMMARY:[:pb]Reunião de Planejamento (ajustes)[:]
DESCRIPTION:
URL:https://www.his.puc-rio.br/pb/event/reuniao-de-planejamento-ajustes/
LOCATION:Sala Walmer – F515
END:VEVENT
BEGIN:VEVENT
DTSTART;TZID=America/Sao_Paulo:20260417T150000
DTEND;TZID=America/Sao_Paulo:20260417T170000
DTSTAMP:20260421T204149
CREATED:20260224T165539Z
LAST-MODIFIED:20260224T165539Z
UID:5192-1776438000-1776445200@www.his.puc-rio.br
SUMMARY:[:pb]Reunião do Laboratório de Pesquisa em Conexões Atlânticas.[:]
DESCRIPTION:
URL:https://www.his.puc-rio.br/pb/event/reuniao-do-laboratorio-de-pesquisa-em-conexoes-atlanticas-2/
LOCATION:F502
END:VEVENT
END:VCALENDAR