BEGIN:VCALENDAR
VERSION:2.0
PRODID:-//Departamento de História da PUC-Rio - ECPv6.7.0//NONSGML v1.0//EN
CALSCALE:GREGORIAN
METHOD:PUBLISH
X-ORIGINAL-URL:https://www.his.puc-rio.br/pb
X-WR-CALDESC:Eventos para Departamento de História da PUC-Rio
REFRESH-INTERVAL;VALUE=DURATION:PT1H
X-Robots-Tag:noindex
X-PUBLISHED-TTL:PT1H
BEGIN:VTIMEZONE
TZID:America/Sao_Paulo
BEGIN:STANDARD
TZOFFSETFROM:-0300
TZOFFSETTO:-0300
TZNAME:-03
DTSTART:20260101T000000
END:STANDARD
END:VTIMEZONE
BEGIN:VEVENT
DTSTART;TZID=America/Sao_Paulo:20260506T090000
DTEND;TZID=America/Sao_Paulo:20260508T170000
DTSTAMP:20260421T221402
CREATED:20251030T123432Z
LAST-MODIFIED:20251030T123432Z
UID:5136-1778058000-1778259600@www.his.puc-rio.br
SUMMARY:[:pb]Seminário: História e Ficção [:]
DESCRIPTION:
URL:https://www.his.puc-rio.br/pb/event/seminario-historia-e-ficcao/
END:VEVENT
END:VCALENDAR