BEGIN:VCALENDAR
VERSION:2.0
PRODID:-//Departamento de História da PUC-Rio - ECPv6.7.0//NONSGML v1.0//EN
CALSCALE:GREGORIAN
METHOD:PUBLISH
X-WR-CALNAME:Departamento de História da PUC-Rio
X-ORIGINAL-URL:https://www.his.puc-rio.br/pb
X-WR-CALDESC:Eventos para Departamento de História da PUC-Rio
REFRESH-INTERVAL;VALUE=DURATION:PT1H
X-Robots-Tag:noindex
X-PUBLISHED-TTL:PT1H
BEGIN:VTIMEZONE
TZID:America/Sao_Paulo
BEGIN:STANDARD
TZOFFSETFROM:-0300
TZOFFSETTO:-0300
TZNAME:-03
DTSTART:20260101T000000
END:STANDARD
END:VTIMEZONE
BEGIN:VEVENT
DTSTART;TZID=America/Sao_Paulo:20260529T110000
DTEND;TZID=America/Sao_Paulo:20260529T170000
DTSTAMP:20260421T233842
CREATED:20260224T165627Z
LAST-MODIFIED:20260224T165627Z
UID:5194-1780052400-1780074000@www.his.puc-rio.br
SUMMARY:[:pb]Reunião do Laboratório de Pesquisa em Conexões Atlânticas.[:]
DESCRIPTION:
URL:https://www.his.puc-rio.br/pb/event/reuniao-do-laboratorio-de-pesquisa-em-conexoes-atlanticas-3/
LOCATION:Sala F502
END:VEVENT
END:VCALENDAR